BEGIN:VCALENDAR
VERSION:2.0
PRODID:-//Imkerverein Mönchswald - ECPv6.2.9//NONSGML v1.0//EN
CALSCALE:GREGORIAN
METHOD:PUBLISH
X-WR-CALNAME:Imkerverein Mönchswald
X-ORIGINAL-URL:https://admin.imkerverein-moenchswald.de
X-WR-CALDESC:Veranstaltungen für Imkerverein Mönchswald
REFRESH-INTERVAL;VALUE=DURATION:PT1H
X-Robots-Tag:noindex
X-PUBLISHED-TTL:PT1H
BEGIN:VTIMEZONE
TZID:Europe/Berlin
BEGIN:DAYLIGHT
TZOFFSETFROM:+0100
TZOFFSETTO:+0200
TZNAME:CEST
DTSTART:20230326T010000
END:DAYLIGHT
BEGIN:STANDARD
TZOFFSETFROM:+0200
TZOFFSETTO:+0100
TZNAME:CET
DTSTART:20231029T010000
END:STANDARD
END:VTIMEZONE
BEGIN:VEVENT
DTSTART;TZID=Europe/Berlin:20230420T190000
DTEND;TZID=Europe/Berlin:20230420T220000
DTSTAMP:20260421T102132
CREATED:20230206T080104Z
LAST-MODIFIED:20230206T080104Z
UID:1121-1682017200-1682028000@admin.imkerverein-moenchswald.de
SUMMARY:Schulung Beutensysteme im Vergleich( Mini Plus zur Königinnenüberwinterung )
DESCRIPTION:In der MINI-PLUS Beute können Königinnen schlüpfen\, begattet und auch überwintert werden. Mini-Plus stellt aber aufgrund des geringen Platzangebotes hinsichtlich der Überwinterung von Königinnen  etwas Ansprüche\, welche unter anderem in der Schulung behandelt werden. \nOrt.: Restaurant & Pension zum Hirschen \, Ansbacher Str. 4\, 91735 Muhr am See \nBeginn.: Do. 20.04.2023    19:00 Uhr
URL:https://admin.imkerverein-moenchswald.de/event/schulung-beutensysteme-im-vergleich-mini-plus-zur-koeniginnenueberwinterung/
LOCATION:Restaurant & Pension zum Hirschen\, Ansbacher Str. 4\, Muhr am See\, 91735\, Deutschland
END:VEVENT
END:VCALENDAR