BEGIN:VCALENDAR
VERSION:2.0
PRODID:-//Imkerverein Mönchswald - ECPv6.2.9//NONSGML v1.0//EN
CALSCALE:GREGORIAN
METHOD:PUBLISH
X-WR-CALNAME:Imkerverein Mönchswald
X-ORIGINAL-URL:https://admin.imkerverein-moenchswald.de
X-WR-CALDESC:Veranstaltungen für Imkerverein Mönchswald
REFRESH-INTERVAL;VALUE=DURATION:PT1H
X-Robots-Tag:noindex
X-PUBLISHED-TTL:PT1H
BEGIN:VTIMEZONE
TZID:Europe/Berlin
BEGIN:DAYLIGHT
TZOFFSETFROM:+0100
TZOFFSETTO:+0200
TZNAME:CEST
DTSTART:20220327T010000
END:DAYLIGHT
BEGIN:STANDARD
TZOFFSETFROM:+0200
TZOFFSETTO:+0100
TZNAME:CET
DTSTART:20221030T010000
END:STANDARD
END:VTIMEZONE
BEGIN:VEVENT
DTSTART;TZID=Europe/Berlin:20221215T190000
DTEND;TZID=Europe/Berlin:20221215T190000
DTSTAMP:20260421T164450
CREATED:20220821T123903Z
LAST-MODIFIED:20221119T163615Z
UID:1041-1671130800-1671130800@admin.imkerverein-moenchswald.de
SUMMARY:IMKER TREFF
DESCRIPTION:Lasst uns ins Gespräch kommen ! Wir Treffen uns jeden 3. Donnerstag im Monat um 19:00 Uhr im Restaurant & Pension zum Hirschen \, Ansbacher Str. 4\, 91735 Muhr am See. Alle Interessierten sind dazu herzlich eingeladen ! \nDer „ Imker Treff „ ist keine offizielle Mitgliederversammlung oder Ausbildung er soll ein gemeinsames Kennenlernen fördern und die Gelegenheit bieten uns miteinander zu Unterhalten. Es soll auch ein Treffen sein das allen an der Imkerei Interessierten offen steht. Dabei sprechen wir über unsere Erfahrungen mit der Imkerei \, hören zu und geben Tipps. Mit Sicherheit tauchen immer wieder Fragen auf – Läuft bei uns alles gut ? Was können wir verbessern ? Wie können wir unsere Ideen umsetzen ? Welche Möglichkeiten haben wir ? Beim Imker Treff können wir uns austauschen und über wichtige Entwicklungen\, Beweggründe und anstehende Entscheidungen informieren. Auch eine Monatsbetrachtung „Welche Arbeiten sind jetzt an den Völkern sinnvoll„ kann besprochen werden. Ein Verein lebt durch seine Mitglieder und soll nicht ein Steriles Instrument zum Selbstzweck sein. Über Zuspruch würden wir uns sehr Freuen.
URL:https://admin.imkerverein-moenchswald.de/event/imker-treff/
END:VEVENT
END:VCALENDAR