BEGIN:VCALENDAR
VERSION:2.0
PRODID:-//Imkerverein Mönchswald - ECPv6.2.9//NONSGML v1.0//EN
CALSCALE:GREGORIAN
METHOD:PUBLISH
X-WR-CALNAME:Imkerverein Mönchswald
X-ORIGINAL-URL:https://admin.imkerverein-moenchswald.de
X-WR-CALDESC:Veranstaltungen für Imkerverein Mönchswald
REFRESH-INTERVAL;VALUE=DURATION:PT1H
X-Robots-Tag:noindex
X-PUBLISHED-TTL:PT1H
BEGIN:VTIMEZONE
TZID:Europe/Berlin
BEGIN:DAYLIGHT
TZOFFSETFROM:+0100
TZOFFSETTO:+0200
TZNAME:CEST
DTSTART:20230326T010000
END:DAYLIGHT
BEGIN:STANDARD
TZOFFSETFROM:+0200
TZOFFSETTO:+0100
TZNAME:CET
DTSTART:20231029T010000
END:STANDARD
END:VTIMEZONE
BEGIN:VEVENT
DTSTART;TZID=Europe/Berlin:20230316T190000
DTEND;TZID=Europe/Berlin:20230316T220000
DTSTAMP:20260421T131639
CREATED:20230206T074945Z
LAST-MODIFIED:20230206T074945Z
UID:1119-1678993200-1679004000@admin.imkerverein-moenchswald.de
SUMMARY:Schulung Bienenzucht\, Zuchtmethoden\,-auslese\, Königinnenzucht
DESCRIPTION:Königinnen- und Völkervermehrung sind ein grundlegender Baustein für eine erfolgreiche Imkerei jedweder Größe. \nWir möchten gerade den Imkern mit wenigen Völkern die Vermehrung von Königinnen und Völkern erleichtern und dabei die Vermehrung der Königinnen in Sammelbrut-Ablegern näherbringen. Ca. zehn mit verdeckelter Brut und Bienen versehene Brutwaben werden dabei zu einem Pflegevolk zusammengefasst und zur Vermehrung von Königinnen  genutzt……. \nOrt.: Restaurant & Pension zum Hirschen \, Ansbacher Str. 4\, 91735 Muhr am See \nBeginn.: Do. 16.03.2023    19:00 Uhr
URL:https://admin.imkerverein-moenchswald.de/event/schulung-bienenzucht-zuchtmethoden-auslese-koeniginnenzucht/
LOCATION:Restaurant & Pension zum Hirschen\, Ansbacher Str. 4\, Muhr am See\, 91735\, Deutschland
END:VEVENT
END:VCALENDAR